BEGIN:VCALENDAR
VERSION:2.0
PRODID:-//J Tiger Martial Arts Taekwondo - ECPv5.16.4//NONSGML v1.0//EN
CALSCALE:GREGORIAN
METHOD:PUBLISH
X-WR-CALNAME:J Tiger Martial Arts Taekwondo
X-ORIGINAL-URL:https://www.myjtiger.com
X-WR-CALDESC:Events for J Tiger Martial Arts Taekwondo
BEGIN:VTIMEZONE
TZID:America/New_York
BEGIN:DAYLIGHT
TZOFFSETFROM:-0500
TZOFFSETTO:-0400
TZNAME:EDT
DTSTART:20190310T070000
END:DAYLIGHT
BEGIN:STANDARD
TZOFFSETFROM:-0400
TZOFFSETTO:-0500
TZNAME:EST
DTSTART:20191103T060000
END:STANDARD
END:VTIMEZONE
BEGIN:VEVENT
DTSTART;TZID=America/New_York:20190921T150000
DTEND;TZID=America/New_York:20190921T163000
DTSTAMP:20260421T101755
CREATED:20190914T181607Z
LAST-MODIFIED:20190914T181607Z
UID:899-1569078000-1569083400@www.myjtiger.com
SUMMARY:Open House
DESCRIPTION:Bring your friends!
URL:https://www.myjtiger.com/event/open-house-2/
LOCATION:J. Tiger Martial Arts Studio\, 6627 Dublin Center Dr\, Dublin\, OH\, 43017\, United States
END:VEVENT
END:VCALENDAR