BEGIN:VCALENDAR
VERSION:2.0
PRODID:-//J Tiger Martial Arts Taekwondo - ECPv5.16.4//NONSGML v1.0//EN
CALSCALE:GREGORIAN
METHOD:PUBLISH
X-WR-CALNAME:J Tiger Martial Arts Taekwondo
X-ORIGINAL-URL:https://www.myjtiger.com
X-WR-CALDESC:Events for J Tiger Martial Arts Taekwondo
BEGIN:VTIMEZONE
TZID:America/New_York
BEGIN:DAYLIGHT
TZOFFSETFROM:-0500
TZOFFSETTO:-0400
TZNAME:EDT
DTSTART:20200308T070000
END:DAYLIGHT
BEGIN:STANDARD
TZOFFSETFROM:-0400
TZOFFSETTO:-0500
TZNAME:EST
DTSTART:20201101T060000
END:STANDARD
END:VTIMEZONE
BEGIN:VEVENT
DTSTART;VALUE=DATE:20200601
DTEND;VALUE=DATE:20200701
DTSTAMP:20260421T085256
CREATED:20200607T143752Z
LAST-MODIFIED:20200607T143752Z
UID:1004-1590969600-1593561599@www.myjtiger.com
SUMMARY:ONLINE classes via ZOOM
DESCRIPTION:Online classes for one more month! Contact us for details
URL:https://www.myjtiger.com/event/online-classes-via-zoom/
CATEGORIES:All Belt (kids & adults)
END:VEVENT
END:VCALENDAR