BEGIN:VCALENDAR
VERSION:2.0
PRODID:-//J Tiger Martial Arts Taekwondo - ECPv5.16.4//NONSGML v1.0//EN
CALSCALE:GREGORIAN
METHOD:PUBLISH
X-WR-CALNAME:J Tiger Martial Arts Taekwondo
X-ORIGINAL-URL:https://www.myjtiger.com
X-WR-CALDESC:Events for J Tiger Martial Arts Taekwondo
BEGIN:VTIMEZONE
TZID:America/New_York
BEGIN:DAYLIGHT
TZOFFSETFROM:-0500
TZOFFSETTO:-0400
TZNAME:EDT
DTSTART:20190310T070000
END:DAYLIGHT
BEGIN:STANDARD
TZOFFSETFROM:-0400
TZOFFSETTO:-0500
TZNAME:EST
DTSTART:20191103T060000
END:STANDARD
END:VTIMEZONE
BEGIN:VEVENT
DTSTART;VALUE=DATE:20190517
DTEND;VALUE=DATE:20190518
DTSTAMP:20260421T133224
CREATED:20190410T154324Z
LAST-MODIFIED:20190412T212745Z
UID:825-1558051200-1558137599@www.myjtiger.com
SUMMARY:J Tiger Picture Day
DESCRIPTION:Sign up at the front desk.
URL:https://www.myjtiger.com/event/j-tiger-picture-day/
LOCATION:J. Tiger Martial Arts Studio\, 6627 Dublin Center Dr\, Dublin\, OH\, 43017\, United States
END:VEVENT
END:VCALENDAR