BEGIN:VCALENDAR
VERSION:2.0
PRODID:-//J Tiger Martial Arts Taekwondo - ECPv5.16.4//NONSGML v1.0//EN
CALSCALE:GREGORIAN
METHOD:PUBLISH
X-WR-CALNAME:J Tiger Martial Arts Taekwondo
X-ORIGINAL-URL:https://www.myjtiger.com
X-WR-CALDESC:Events for J Tiger Martial Arts Taekwondo
BEGIN:VTIMEZONE
TZID:America/New_York
BEGIN:DAYLIGHT
TZOFFSETFROM:-0500
TZOFFSETTO:-0400
TZNAME:EDT
DTSTART:20180311T070000
END:DAYLIGHT
BEGIN:STANDARD
TZOFFSETFROM:-0400
TZOFFSETTO:-0500
TZNAME:EST
DTSTART:20181104T060000
END:STANDARD
END:VTIMEZONE
BEGIN:VEVENT
DTSTART;TZID=America/New_York:20181027T170000
DTEND;TZID=America/New_York:20181027T210000
DTSTAMP:20260421T163751
CREATED:20181009T214331Z
LAST-MODIFIED:20181009T214331Z
UID:342-1540659600-1540674000@www.myjtiger.com
SUMMARY:J Tiger Halloween Party!
DESCRIPTION:
URL:https://www.myjtiger.com/event/j-tiger-halloween-party/
END:VEVENT
END:VCALENDAR