BEGIN:VCALENDAR
VERSION:2.0
PRODID:-//J Tiger Martial Arts Taekwondo - ECPv5.16.4//NONSGML v1.0//EN
CALSCALE:GREGORIAN
METHOD:PUBLISH
X-WR-CALNAME:J Tiger Martial Arts Taekwondo
X-ORIGINAL-URL:https://www.myjtiger.com
X-WR-CALDESC:Events for J Tiger Martial Arts Taekwondo
BEGIN:VTIMEZONE
TZID:America/New_York
BEGIN:DAYLIGHT
TZOFFSETFROM:-0500
TZOFFSETTO:-0400
TZNAME:EDT
DTSTART:20190310T070000
END:DAYLIGHT
BEGIN:STANDARD
TZOFFSETFROM:-0400
TZOFFSETTO:-0500
TZNAME:EST
DTSTART:20191103T060000
END:STANDARD
END:VTIMEZONE
BEGIN:VEVENT
DTSTART;TZID=America/New_York:20191102T163000
DTEND;TZID=America/New_York:20191102T183000
DTSTAMP:20260421T102413
CREATED:20190914T182751Z
LAST-MODIFIED:20190914T182751Z
UID:904-1572712200-1572719400@www.myjtiger.com
SUMMARY:J. Tiger Charity Challenge
DESCRIPTION:A charity event to benefit Nationwide Childrens Hospital
URL:https://www.myjtiger.com/event/j-tiger-charity-challenge/
LOCATION:Dublin Sells Middle School Gym\, 150 W Bridge St\, Dublin\, OH\, 43017
CATEGORIES:Charity Events
END:VEVENT
END:VCALENDAR