BEGIN:VCALENDAR
VERSION:2.0
PRODID:-//J Tiger Martial Arts Taekwondo - ECPv5.16.4//NONSGML v1.0//EN
CALSCALE:GREGORIAN
METHOD:PUBLISH
X-WR-CALNAME:J Tiger Martial Arts Taekwondo
X-ORIGINAL-URL:https://www.myjtiger.com
X-WR-CALDESC:Events for J Tiger Martial Arts Taekwondo
BEGIN:VTIMEZONE
TZID:America/New_York
BEGIN:DAYLIGHT
TZOFFSETFROM:-0500
TZOFFSETTO:-0400
TZNAME:EDT
DTSTART:20190310T070000
END:DAYLIGHT
BEGIN:STANDARD
TZOFFSETFROM:-0400
TZOFFSETTO:-0500
TZNAME:EST
DTSTART:20191103T060000
END:STANDARD
END:VTIMEZONE
BEGIN:VEVENT
DTSTART;TZID=America/New_York:20190130T080000
DTEND;TZID=America/New_York:20190130T170000
DTSTAMP:20260421T163854
CREATED:20190130T155856Z
LAST-MODIFIED:20190130T155923Z
UID:770-1548835200-1548867600@www.myjtiger.com
SUMMARY:CLOSED TODAY DUE TO WEATHER
DESCRIPTION:
URL:https://www.myjtiger.com/event/closed-due-to-weather-all-classes-cancelled/
END:VEVENT
END:VCALENDAR