BEGIN:VCALENDAR
VERSION:2.0
PRODID:-//J Tiger Martial Arts Taekwondo - ECPv5.16.4//NONSGML v1.0//EN
CALSCALE:GREGORIAN
METHOD:PUBLISH
X-WR-CALNAME:J Tiger Martial Arts Taekwondo
X-ORIGINAL-URL:https://www.myjtiger.com
X-WR-CALDESC:Events for J Tiger Martial Arts Taekwondo
BEGIN:VTIMEZONE
TZID:America/New_York
BEGIN:DAYLIGHT
TZOFFSETFROM:-0500
TZOFFSETTO:-0400
TZNAME:EDT
DTSTART:20200308T070000
END:DAYLIGHT
BEGIN:STANDARD
TZOFFSETFROM:-0400
TZOFFSETTO:-0500
TZNAME:EST
DTSTART:20201101T060000
END:STANDARD
END:VTIMEZONE
BEGIN:VEVENT
DTSTART;TZID=America/New_York:20200125T150000
DTEND;TZID=America/New_York:20200125T163000
DTSTAMP:20260421T095909
CREATED:20200107T203442Z
LAST-MODIFIED:20200107T203442Z
UID:924-1579964400-1579969800@www.myjtiger.com
SUMMARY:Buddy Bash
DESCRIPTION:Invite your friends to J. Tiger Martial Arts. Show them how much fun we have!
URL:https://www.myjtiger.com/event/buddy-bash-2/
LOCATION:J. Tiger Martial Arts Studio\, 6627 Dublin Center Dr\, Dublin\, OH\, 43017\, United States
END:VEVENT
END:VCALENDAR