BEGIN:VCALENDAR
VERSION:2.0
PRODID:-//J Tiger Martial Arts Taekwondo - ECPv5.16.4//NONSGML v1.0//EN
CALSCALE:GREGORIAN
METHOD:PUBLISH
X-WR-CALNAME:J Tiger Martial Arts Taekwondo
X-ORIGINAL-URL:https://www.myjtiger.com
X-WR-CALDESC:Events for J Tiger Martial Arts Taekwondo
BEGIN:VTIMEZONE
TZID:America/New_York
BEGIN:DAYLIGHT
TZOFFSETFROM:-0500
TZOFFSETTO:-0400
TZNAME:EDT
DTSTART:20200308T070000
END:DAYLIGHT
BEGIN:STANDARD
TZOFFSETFROM:-0400
TZOFFSETTO:-0500
TZNAME:EST
DTSTART:20201101T060000
END:STANDARD
END:VTIMEZONE
BEGIN:VEVENT
DTSTART;TZID=America/New_York:20200123T180000
DTEND;TZID=America/New_York:20200123T190000
DTSTAMP:20260421T115517
CREATED:20200107T203122Z
LAST-MODIFIED:20200107T203122Z
UID:920-1579802400-1579806000@www.myjtiger.com
SUMMARY:Belt Test - Little Tigers/White/Yellow
DESCRIPTION:Please wear your full uniform.
URL:https://www.myjtiger.com/event/belt-test-little-tigers-white-yellow-10/
LOCATION:J. Tiger Martial Arts Studio\, 6627 Dublin Center Dr\, Dublin\, OH\, 43017\, United States
CATEGORIES:Belt Tests
END:VEVENT
END:VCALENDAR